BEGIN:VCALENDAR
PRODID:-//AT Content Types//AT Event//EN
VERSION:2.0
METHOD:PUBLISH
BEGIN:VEVENT
DTSTAMP:20260425T232042Z
CREATED:20170522T134146Z
UID:ATEvent-482e175764d24fd200c06a42dce6432b
LAST-MODIFIED:20220915T081013Z
SUMMARY:"Experimental Polymer Physics" 2022
DTSTART:20211230T230000Z
DTEND:20221230T230000Z
LOCATION:freitags 15\:00h
CLASS:PUBLIC
END:VEVENT
END:VCALENDAR
